BEGIN:VCALENDAR
VERSION:2.0
PRODID:-//Elly-Heuss-Knapp Schule - ECPv6.15.20//NONSGML v1.0//EN
CALSCALE:GREGORIAN
METHOD:PUBLISH
X-ORIGINAL-URL:https://ehk-gt.de
X-WR-CALDESC:Veranstaltungen für Elly-Heuss-Knapp Schule
REFRESH-INTERVAL;VALUE=DURATION:PT1H
X-Robots-Tag:noindex
X-PUBLISHED-TTL:PT1H
BEGIN:VTIMEZONE
TZID:UTC
BEGIN:STANDARD
TZOFFSETFROM:+0000
TZOFFSETTO:+0000
TZNAME:UTC
DTSTART:20250101T000000
END:STANDARD
END:VTIMEZONE
BEGIN:VEVENT
DTSTART;VALUE=DATE:20260525
DTEND;VALUE=DATE:20260627
DTSTAMP:20260424T100503
CREATED:20251128T115801Z
LAST-MODIFIED:20251128T115801Z
UID:1389-1779667200-1782518399@ehk-gt.de
SUMMARY:Feiertag: Pfingsten
DESCRIPTION:
URL:https://ehk-gt.de/veranstaltungen/feiertag-pfingsten/
END:VEVENT
BEGIN:VEVENT
DTSTART;VALUE=DATE:20260604
DTEND;VALUE=DATE:20260605
DTSTAMP:20260424T100503
CREATED:20251128T115606Z
LAST-MODIFIED:20251128T115606Z
UID:1385-1780531200-1780617599@ehk-gt.de
SUMMARY:Feiertag: Fronleichnam
DESCRIPTION:
URL:https://ehk-gt.de/veranstaltungen/feiertag-fronleichnam/
END:VEVENT
BEGIN:VEVENT
DTSTART;VALUE=DATE:20260605
DTEND;VALUE=DATE:20260606
DTSTAMP:20260424T100503
CREATED:20251128T115631Z
LAST-MODIFIED:20251128T115631Z
UID:1387-1780617600-1780703999@ehk-gt.de
SUMMARY:Beweglicher Ferientag
DESCRIPTION:
URL:https://ehk-gt.de/veranstaltungen/beweglicher-ferientag-7/
END:VEVENT
END:VCALENDAR