BEGIN:VCALENDAR
VERSION:2.0
PRODID:-//Elly-Heuss-Knapp Schule - ECPv6.15.20//NONSGML v1.0//EN
CALSCALE:GREGORIAN
METHOD:PUBLISH
X-WR-CALNAME:Elly-Heuss-Knapp Schule
X-ORIGINAL-URL:https://ehk-gt.de
X-WR-CALDESC:Veranstaltungen für Elly-Heuss-Knapp Schule
REFRESH-INTERVAL;VALUE=DURATION:PT1H
X-Robots-Tag:noindex
X-PUBLISHED-TTL:PT1H
BEGIN:VTIMEZONE
TZID:UTC
BEGIN:STANDARD
TZOFFSETFROM:+0000
TZOFFSETTO:+0000
TZNAME:UTC
DTSTART:20250101T000000
END:STANDARD
END:VTIMEZONE
BEGIN:VEVENT
DTSTART;VALUE=DATE:20260501
DTEND;VALUE=DATE:20260502
DTSTAMP:20260422T165105
CREATED:20251128T115407Z
LAST-MODIFIED:20251128T115407Z
UID:1379-1777593600-1777679999@ehk-gt.de
SUMMARY:Tag der Arbeit (Schulfrei)
DESCRIPTION:
URL:https://ehk-gt.de/veranstaltungen/tag-der-arbeit-schulfrei/
END:VEVENT
BEGIN:VEVENT
DTSTART;TZID=UTC:20260513T090000
DTEND;TZID=UTC:20260513T120000
DTSTAMP:20260422T165105
CREATED:20251129T091011Z
LAST-MODIFIED:20260120T075625Z
UID:1391-1778662800-1778673600@ehk-gt.de
SUMMARY:ZP Deutsch
DESCRIPTION:
URL:https://ehk-gt.de/veranstaltungen/zp-deutsch/
END:VEVENT
BEGIN:VEVENT
DTSTART;VALUE=DATE:20260514
DTEND;VALUE=DATE:20260522
DTSTAMP:20260422T165105
CREATED:20251128T115506Z
LAST-MODIFIED:20251128T115506Z
UID:1381-1778716800-1779407999@ehk-gt.de
SUMMARY:Feiertag: Christi- Himmelfahrt
DESCRIPTION:
URL:https://ehk-gt.de/veranstaltungen/feiertag-christi-himmelfahrt/
END:VEVENT
BEGIN:VEVENT
DTSTART;VALUE=DATE:20260515
DTEND;VALUE=DATE:20260516
DTSTAMP:20260422T165105
CREATED:20251128T115532Z
LAST-MODIFIED:20251128T115532Z
UID:1383-1778803200-1778889599@ehk-gt.de
SUMMARY:Beweglicher Ferientag
DESCRIPTION:
URL:https://ehk-gt.de/veranstaltungen/beweglicher-ferientag-6/
END:VEVENT
BEGIN:VEVENT
DTSTART;TZID=UTC:20260519T083000
DTEND;TZID=UTC:20260519T113000
DTSTAMP:20260422T165105
CREATED:20251129T091049Z
LAST-MODIFIED:20251129T091049Z
UID:1393-1779179400-1779190200@ehk-gt.de
SUMMARY:ZP Englisch
DESCRIPTION:
URL:https://ehk-gt.de/veranstaltungen/zp-englisch/
END:VEVENT
BEGIN:VEVENT
DTSTART;VALUE=DATE:20260525
DTEND;VALUE=DATE:20260627
DTSTAMP:20260422T165105
CREATED:20251128T115801Z
LAST-MODIFIED:20251128T115801Z
UID:1389-1779667200-1782518399@ehk-gt.de
SUMMARY:Feiertag: Pfingsten
DESCRIPTION:
URL:https://ehk-gt.de/veranstaltungen/feiertag-pfingsten/
END:VEVENT
BEGIN:VEVENT
DTSTART;TZID=UTC:20260528T090000
DTEND;TZID=UTC:20260528T120000
DTSTAMP:20260422T165105
CREATED:20251129T091123Z
LAST-MODIFIED:20251129T091123Z
UID:1395-1779958800-1779969600@ehk-gt.de
SUMMARY:ZP Mathe
DESCRIPTION:
URL:https://ehk-gt.de/veranstaltungen/zp-mathe/
END:VEVENT
END:VCALENDAR