BEGIN:VCALENDAR
VERSION:2.0
PRODID:-//Elly-Heuss-Knapp Schule - ECPv6.15.20//NONSGML v1.0//EN
CALSCALE:GREGORIAN
METHOD:PUBLISH
X-WR-CALNAME:Elly-Heuss-Knapp Schule
X-ORIGINAL-URL:https://ehk-gt.de
X-WR-CALDESC:Veranstaltungen für Elly-Heuss-Knapp Schule
REFRESH-INTERVAL;VALUE=DURATION:PT1H
X-Robots-Tag:noindex
X-PUBLISHED-TTL:PT1H
BEGIN:VTIMEZONE
TZID:UTC
BEGIN:STANDARD
TZOFFSETFROM:+0000
TZOFFSETTO:+0000
TZNAME:UTC
DTSTART:20240101T000000
END:STANDARD
END:VTIMEZONE
BEGIN:VEVENT
DTSTART;VALUE=DATE:20251220
DTEND;VALUE=DATE:20260107
DTSTAMP:20260424T114028
CREATED:20251201T120627Z
LAST-MODIFIED:20251201T120627Z
UID:1399-1766188800-1767743999@ehk-gt.de
SUMMARY:Weihnachtsferien
DESCRIPTION:Der Unterricht beginnt wieder am Mittwoch\, 7. Januar 2026
URL:https://ehk-gt.de/veranstaltungen/weihnachtsferien-2/
END:VEVENT
BEGIN:VEVENT
DTSTART;TZID=UTC:20260115T160000
DTEND;TZID=UTC:20260115T180000
DTSTAMP:20260424T114028
CREATED:20250822T101928Z
LAST-MODIFIED:20250822T101928Z
UID:1311-1768492800-1768500000@ehk-gt.de
SUMMARY:Eltern- und Kind- Info+ Schulführung neue 5er
DESCRIPTION:
URL:https://ehk-gt.de/veranstaltungen/eltern-und-kind-info-schulfuehrung-neue-5er/
END:VEVENT
END:VCALENDAR