BEGIN:VCALENDAR
VERSION:2.0
PRODID:-//Elly-Heuss-Knapp Schule - ECPv6.15.20//NONSGML v1.0//EN
CALSCALE:GREGORIAN
METHOD:PUBLISH
X-ORIGINAL-URL:https://ehk-gt.de
X-WR-CALDESC:Veranstaltungen für Elly-Heuss-Knapp Schule
REFRESH-INTERVAL;VALUE=DURATION:PT1H
X-Robots-Tag:noindex
X-PUBLISHED-TTL:PT1H
BEGIN:VTIMEZONE
TZID:UTC
BEGIN:STANDARD
TZOFFSETFROM:+0000
TZOFFSETTO:+0000
TZNAME:UTC
DTSTART:20240101T000000
END:STANDARD
END:VTIMEZONE
BEGIN:VEVENT
DTSTART;TZID=UTC:20251111T080000
DTEND;TZID=UTC:20251111T133000
DTSTAMP:20260424T142031
CREATED:20250822T101817Z
LAST-MODIFIED:20250822T101817Z
UID:1309-1762848000-1762867800@ehk-gt.de
SUMMARY:5c gut: gehen
DESCRIPTION:
URL:https://ehk-gt.de/veranstaltungen/5c-gut-gehen-4/
END:VEVENT
BEGIN:VEVENT
DTSTART;TZID=UTC:20251115T100000
DTEND;TZID=UTC:20251115T130000
DTSTAMP:20260424T142031
CREATED:20250822T095349Z
LAST-MODIFIED:20250822T095349Z
UID:1301-1763200800-1763211600@ehk-gt.de
SUMMARY:Tag der offenen Tür
DESCRIPTION:
URL:https://ehk-gt.de/veranstaltungen/tag-der-offenen-tuer-2/
END:VEVENT
END:VCALENDAR